BEGIN:VCALENDAR
VERSION:2.0
PRODID:-//DudoPlaner - ECPv6.15.20//NONSGML v1.0//EN
CALSCALE:GREGORIAN
METHOD:PUBLISH
X-WR-CALNAME:DudoPlaner
X-ORIGINAL-URL:https://dudoplaner.de
X-WR-CALDESC:Veranstaltungen für DudoPlaner
REFRESH-INTERVAL;VALUE=DURATION:PT1H
X-Robots-Tag:noindex
X-PUBLISHED-TTL:PT1H
BEGIN:VTIMEZONE
TZID:Europe/Berlin
BEGIN:DAYLIGHT
TZOFFSETFROM:+0100
TZOFFSETTO:+0200
TZNAME:CEST
DTSTART:20210328T010000
END:DAYLIGHT
BEGIN:STANDARD
TZOFFSETFROM:+0200
TZOFFSETTO:+0100
TZNAME:CET
DTSTART:20211031T010000
END:STANDARD
BEGIN:DAYLIGHT
TZOFFSETFROM:+0100
TZOFFSETTO:+0200
TZNAME:CEST
DTSTART:20220327T010000
END:DAYLIGHT
BEGIN:STANDARD
TZOFFSETFROM:+0200
TZOFFSETTO:+0100
TZNAME:CET
DTSTART:20221030T010000
END:STANDARD
BEGIN:DAYLIGHT
TZOFFSETFROM:+0100
TZOFFSETTO:+0200
TZNAME:CEST
DTSTART:20230326T010000
END:DAYLIGHT
BEGIN:STANDARD
TZOFFSETFROM:+0200
TZOFFSETTO:+0100
TZNAME:CET
DTSTART:20231029T010000
END:STANDARD
END:VTIMEZONE
BEGIN:VEVENT
DTSTART;TZID=Europe/Berlin:20221001T160000
DTEND;TZID=Europe/Berlin:20221001T160000
DTSTAMP:20260425T175521
CREATED:20220915T193448Z
LAST-MODIFIED:20220920T220706Z
UID:30-1664640000-1664640000@dudoplaner.de
SUMMARY:Oktoberfest - 30 Jahre FFZ
DESCRIPTION:Am 01. Oktober lassen wir endlich wieder die LPM-Halle beben. Gemeinsam mit unseren Gastvereinen feiern wir standesgemäß unser 30-jähriges Jubiläum. Ein Highlight wird sicherlich unser Auftritt gemeinsam mit vielen Ehemaligen\, bei dem wir musikalisch einen Blick auf die vergangenen Jahre werfen – das dürft ihr nicht verpassen. Einlass ist ab 16 Uhr\, der Eintritt ist frei! Das Programm startet um 17 Uhr. Der Fassanstich ist für 18 Uhr geplant und erfolgt durch unsere Schirmherrin Stephanie Meiser (Landtagsabgeordnete). Weitere Infos zum Programm sowie zu den teilnehmenden Vereinen folgen in den nächsten Tagen und Wochen. Wir sehen uns. Quelle: https://www.facebook.com/events/652980999346268/\n\n\n\n\n\nDesigned by: photographeeasia / Freepik\n\n\n\n\n\nVeranstalter\n\n\n\n\n\nVeranstaltungsort
URL:https://dudoplaner.de/veranstaltung/oktoberfest-30-jahre-ffz-freier-fanfarenzug-1992-dudweiler-e-v/
LOCATION:LPM Halle\, Beethovenstraße 26\, Dudweiler\, Saarland\, 66125\, Deutschland
CATEGORIES:Veranstaltung
ATTACH;FMTTYPE=image/jpeg:https://dudoplaner.de/wp-content/uploads/2022/09/ffz-oktoberfest2022-768x911-1.jpg
END:VEVENT
BEGIN:VEVENT
DTSTART;TZID=Europe/Berlin:20221001T183000
DTEND;TZID=Europe/Berlin:20221001T183000
DTSTAMP:20260425T175521
CREATED:20220916T130901Z
LAST-MODIFIED:20230120T181032Z
UID:137-1664649000-1664649000@dudoplaner.de
SUMMARY:Hüttengaudi uffem Paffekopp
DESCRIPTION:Die Oktoberfeste starten\, auch wir sind mit dabei mit unserem traditionellen Hüttengaudi.Leckereien\, Livemusik und gutes Bier  sind vorhanden. \n\n\n\n\n\n\n\n\n\n\n\nVeranstalter\n\n\n\n\n\nVeranstaltungsort
URL:https://dudoplaner.de/veranstaltung/huettengaudi-uffem-paffekopp/
LOCATION:Vereinslokal Pfaffenkopf\, Rentrischer Straße 42\, Dudweiler\, Saarland\, 66125\, Deutschland
CATEGORIES:Veranstaltung
ATTACH;FMTTYPE=image/jpeg:https://dudoplaner.de/wp-content/uploads/2022/09/huettengaudi-uffm-paffekopp-768x768-1.jpg
ORGANIZER;CN="Kulturgemeinschaft 1955 Dudweiler-Pfaffenkopf e.V.":MAILTO:info@kgpfaffenkopf.de
END:VEVENT
END:VCALENDAR